BEGIN:VCALENDAR
VERSION:2.0
PRODID:-//OneGov//onegov.event//
BEGIN:VEVENT
SUMMARY:Eltern sein von Kinder ab 6 Jahren\, Jugendlichen und jungen Erwac
 hsenen bis 25 Jahren
DTSTART:20260518T120000Z
DTEND:20260518T140000Z
DTSTAMP:20260423T115656Z
UID:eltern-sein-von-kinder-ab-6-jahren-jugendlichen-und-jungen-erwachsenen
 -bis-25-jahren-2026-05-18@onegov.event
CATEGORIES:Misc,Talk,Meetup
DESCRIPTION:INHALT:\n– Orientierung über die Entwicklungs- und Ablösep
 hasen\n– Beziehungsaufbau und Selbstbestimmung\n– Gelingendes Zusammen
 leben und Kommunikation\n– Rahmenbedingungen und Grenzen\n– Bewältigu
 ng von Krisen\n– Meistern von alltäglichen Erziehungssituationen\n\nREF
 ERENTIN:\nSilvia Erni\, Kinder- Jugend- und Familienberaterin von jufa - F
 achstelle für Jugend- und Familienberatung\, Ebikon\n\nANMELDUNG:\nBis Mo
 ntag\, 4. Mai 2026 via WhatsApp 079 744 37 10\n(Dolmetscher kann gratis mi
 tgebucht werden.)
LAST-MODIFIED:20260423T115656Z
LOCATION:Pfarreisaal\, kath. Kirche St. Agatha\, Buchrain
URL:https://integration.ebikon.ch/event/eltern-sein-von-kinder-ab-6-jahren
 -jugendlichen-und-jungen-erwachsenen-bis-25-jahren-2026-05-18
END:VEVENT
END:VCALENDAR
